
BEGIN:VCALENDAR
VERSION:2.0
PRODID:-//El Tranco - ECPv4.9.8//NONSGML v1.0//EN
CALSCALE:GREGORIAN
METHOD:PUBLISH
X-WR-CALNAME:El Tranco
X-ORIGINAL-URL:https://tranco.es
X-WR-CALDESC:Eventos para El Tranco
BEGIN:VTIMEZONE
TZID:Europe/Madrid
BEGIN:DAYLIGHT
TZOFFSETFROM:+0100
TZOFFSETTO:+0200
TZNAME:CEST
DTSTART:20190331T010000
END:DAYLIGHT
BEGIN:STANDARD
TZOFFSETFROM:+0200
TZOFFSETTO:+0100
TZNAME:CET
DTSTART:20191027T010000
END:STANDARD
END:VTIMEZONE
BEGIN:VEVENT
DTSTART;TZID="Europe/Madrid":20190716T203000
DTEND;TZID="Europe/Madrid":20190716T233000
DTSTAMP:20260423T114506
CREATED:20190706T214332Z
LAST-MODIFIED:20190706T231230Z
UID:16249-1563309000-1563319800@tranco.es
SUMMARY:Noche de Eclipse Lunar en Segura
DESCRIPTION:La noches del verano son ideales para echar una manta al suelo y relajarnos mientras observamos las maravillas del universo. Llega este verano uno de los pocos eclipses del año\, un eclipse parcial de luna que tendrá lugar la noche del 16 al 17 de julio. Primero\, un paseo en barco solar por las aguas del embalse del Tranco. \nUna vez llegado al centro\, tendrá lugar la observación de estrellas para ver el eclipse\, acompañado de un picnic\, en un bonito lugar a orillas del embalse\, en uno de sus miradores. Todo un espectáculo que te acercará a las maravillosas noches veraniegas de la Sierra de Segura. \n¡Ven\, relajate y vive una noche ASTRONÓMICA! \nPrecio\nAdultos 19€\nNiños (4-12 años) 16€\nGrupos (+10 personas) 16€ \n¡RESERVA AHORA!\n  \n
URL:https://tranco.es/evento/noche-eclipse-lunar-segura-tranco/
LOCATION:El Tranco
ATTACH;FMTTYPE=image/jpeg:https://tranco.es/wp-content/uploads/2019/07/Eclipse-en-Segura-2019.jpg
END:VEVENT
END:VCALENDAR