
BEGIN:VCALENDAR
VERSION:2.0
PRODID:-//El Tranco - ECPv4.9.8//NONSGML v1.0//EN
CALSCALE:GREGORIAN
METHOD:PUBLISH
X-WR-CALNAME:El Tranco
X-ORIGINAL-URL:https://tranco.es
X-WR-CALDESC:Eventos para El Tranco
BEGIN:VTIMEZONE
TZID:Europe/Madrid
BEGIN:DAYLIGHT
TZOFFSETFROM:+0100
TZOFFSETTO:+0200
TZNAME:CEST
DTSTART:20180325T010000
END:DAYLIGHT
BEGIN:STANDARD
TZOFFSETFROM:+0200
TZOFFSETTO:+0100
TZNAME:CET
DTSTART:20181028T010000
END:STANDARD
END:VTIMEZONE
BEGIN:VEVENT
DTSTART;TZID="Europe/Madrid":20180318T090000
DTEND;TZID="Europe/Madrid":20180318T090000
DTSTAMP:20260424T164400
CREATED:20180228T130247Z
LAST-MODIFIED:20180404T125811Z
UID:13768-1521363600-1521363600@tranco.es
SUMMARY:Senderismo interpretativo: Charco del Aceite
DESCRIPTION:Uno de los mayores atractivos turísticos cercanos al Tranco es el Charco del Aceite\, o comúnmente conocido como Charco de la Pringue. Un recorrido guiado de unos 7 kilómetros que empieza en esta conocida piscina natural y que prosigue por un sendero que recorre paralelo al cauce del río Guadalquivir. \nLugar y hora de encuentro | Centro de Ocio El Tranco (JAÉN)\, 09:00h.\nPrecio | 19€ adultos\, 15€ reducida (grupos y menores de 12 años).\nIncluye | Senderismo + barco solar \nRESERVA AHORA \n  \n
URL:https://tranco.es/evento/senderismo-interpretativo-charco-aceite/2018-03-18/
LOCATION:El Tranco
ATTACH;FMTTYPE=image/jpeg:https://tranco.es/wp-content/uploads/2018/02/Charco-del-aceite.jpg
END:VEVENT
END:VCALENDAR