
BEGIN:VCALENDAR
VERSION:2.0
PRODID:-//El Tranco - ECPv4.9.8//NONSGML v1.0//EN
CALSCALE:GREGORIAN
METHOD:PUBLISH
X-WR-CALNAME:El Tranco
X-ORIGINAL-URL:https://tranco.es
X-WR-CALDESC:Eventos para El Tranco
BEGIN:VTIMEZONE
TZID:Europe/Madrid
BEGIN:DAYLIGHT
TZOFFSETFROM:+0100
TZOFFSETTO:+0200
TZNAME:CEST
DTSTART:20190331T010000
END:DAYLIGHT
BEGIN:STANDARD
TZOFFSETFROM:+0200
TZOFFSETTO:+0100
TZNAME:CET
DTSTART:20191027T010000
END:STANDARD
END:VTIMEZONE
BEGIN:VEVENT
DTSTART;TZID="Europe/Madrid":20191018T110000
DTEND;TZID="Europe/Madrid":20191018T133000
DTSTAMP:20260420T062619
CREATED:20190927T113319Z
LAST-MODIFIED:20190927T113319Z
UID:16737-1571396400-1571405400@tranco.es
SUMMARY:VIERNES ENTRE OLIVOS: Día oleoturístico en Tierras de Tavara & El Tranco
DESCRIPTION:El Centro de Ocio El Tranco te propone conocer la cultura del aceite de oliva de la zona de la Sierra de Segura: Comenzaremos con la visita a una almazara típica a las 11:00 h en la Fábrica de Aceites Oleofer\, descubriendo cómo se elabora el AOVE Tierras de Tavara y degustando sus diferentes vírgenes extra. Sobre las 12:30 h se trasladarán hacia el Centro de Ocio El Tranco\, para embarcar a las 13:30 h en el barco solar del Tranco\, donde disfrutaremos del entorno del pantano y del olivar que lo rodea. \nPrecio\nAdultos 10€\nNiños (-12 años) 8€\nGrupos (+10 personas) 8€ \nDificultad: Baja\nTransporte: No incluye traslado desde Almazara al Centro de ocio el Tranco \nMÁS INFO\n¡RESERVA AHORA!\n
URL:https://tranco.es/evento/viernes-entre-olivos-dia-oleoturistico-en-tierras-de-tavara-el-tranco/2019-10-18/
LOCATION:Almazara Tierra de Tavara\, Carretera A-310\, Km 300\, La puerta de segura\, Jaen\, 23360\, España
ATTACH;FMTTYPE=image/jpeg:https://tranco.es/wp-content/uploads/2017/06/oleo.jpg
END:VEVENT
END:VCALENDAR