
BEGIN:VCALENDAR
VERSION:2.0
PRODID:-//El Tranco - ECPv4.9.8//NONSGML v1.0//EN
CALSCALE:GREGORIAN
METHOD:PUBLISH
X-WR-CALNAME:El Tranco
X-ORIGINAL-URL:https://tranco.es
X-WR-CALDESC:Eventos para El Tranco
BEGIN:VTIMEZONE
TZID:Europe/Madrid
BEGIN:DAYLIGHT
TZOFFSETFROM:+0100
TZOFFSETTO:+0200
TZNAME:CEST
DTSTART:20190331T010000
END:DAYLIGHT
BEGIN:STANDARD
TZOFFSETFROM:+0200
TZOFFSETTO:+0100
TZNAME:CET
DTSTART:20191027T010000
END:STANDARD
END:VTIMEZONE
BEGIN:VEVENT
DTSTART;TZID="Europe/Madrid":20190720T203000
DTEND;TZID="Europe/Madrid":20190720T233000
DTSTAMP:20260421T102948
CREATED:20190706T230518Z
LAST-MODIFIED:20190706T230518Z
UID:16336-1563654600-1563665400@tranco.es
SUMMARY:Noche de luna llena en la Sierra de Segura
DESCRIPTION:¡Día de luna llena en el Tranco!. Una noche en la que disfrutaremos de la luna llena\, primero en un paseo en barco solar de una hora aproximadamente de duración\, para continuar con una travesía a pie guiados por la luz de la luna y por las de nuestros monitores\, que te resolverán todas las dudas que te surjan en el recorrido. \nPrecio\nAdultos 19€\nNiños (2-12 años) 16€\nGrupos (+10 personas) 16€\nMínimo 4 plazas\nMáximo 15 plazas \nMÁS INFO\n¡RESERVA AHORA!\n  \n
URL:https://tranco.es/evento/noche-luna-llena-sierra-de-segura/2019-07-20/
LOCATION:El Tranco
ATTACH;FMTTYPE=image/jpeg:https://tranco.es/wp-content/uploads/2019/07/NOCHE-DE-LUNA-LLENA-EN-LA-SIERRA-DE-SEGURA-2019-1.jpg
END:VEVENT
END:VCALENDAR